BEGIN:VCALENDAR
VERSION:2.0
PRODID:-//Squarespace Inc/Squarespace 6//v6//EN
BEGIN:VEVENT
UID:5f73b5aacafae2529b31c0e0@squarespace.com
DTSTAMP:20201101T070758Z
DTSTART:20200630T120000Z
DTEND:20201231T105500Z
SUMMARY:Writers’ playlists
END:VEVENT
END:VCALENDAR
