BEGIN:VCALENDAR
VERSION:2.0
PRODID:-//Squarespace Inc/Squarespace 6//v6//EN
BEGIN:VEVENT
UID:5fa1e0b1cc93086cbc400d41@squarespace.com
DTSTAMP:20201201T231038Z
DTSTART:20201128T010000Z
DTEND:20201130T043000Z
SUMMARY:第一届奥克兰东区中华文化艺术节 - East Auckland Chinese Art &amp\; Culture Exhibiti
 on
GEO:-36.925221;174.894617
LOCATION:China Town\, 262 Ti Rakau Drive\, Auckland\, Auckland\, 2013\, New 
 Zealand
END:VEVENT
END:VCALENDAR
