BEGIN:VCALENDAR
VERSION:2.0
PRODID:-//Squarespace Inc/Squarespace 6//v6//EN
BEGIN:VEVENT
UID:5f7a6d90c8f18a2d034950ec@squarespace.com
DTSTAMP:20201029T032410Z
DTSTART:20200727T050000Z
DTEND:20200727T050000Z
SUMMARY:Paia Swanson Terepo: Kōtahi te Raranga
GEO:-36.89396;174.934133
LOCATION:Te Whare Wananga o Owairoa\, 37 Uxbridge Road\, Auckland\, Aucklan
 d\, 2014\, New Zealand
END:VEVENT
END:VCALENDAR
