BEGIN:VCALENDAR
VERSION:2.0
PRODID:-//Squarespace Inc/Squarespace 6//v6//EN
BEGIN:VEVENT
UID:5f98c45140e38c75e7af13a0@squarespace.com
DTSTAMP:20201101T204013Z
DTSTART:20201031T000000Z
DTEND:20201031T013000Z
SUMMARY:K-Pop Connect
GEO:-36.933517;174.912311
LOCATION:Botany Town Centre\, 588 Chapel Road\, Auckland\, Auckland\, 2016\
 , New Zealand
END:VEVENT
END:VCALENDAR
