BEGIN:VCALENDAR
VERSION:2.0
PRODID:-//Squarespace Inc/Squarespace 6//v6//EN
BEGIN:VEVENT
UID:5f73b5aacafae2529b31c0de@squarespace.com
DTSTAMP:20201101T202114Z
DTSTART:20201002T220000Z
DTEND:20201002T233000Z
SUMMARY:Carla Ruka: Make a cup\, online
END:VEVENT
END:VCALENDAR
