BEGIN:VCALENDAR
VERSION:2.0
PRODID:-//Squarespace Inc/Squarespace 6//v6//EN
BEGIN:VEVENT
UID:5f73b5aacafae2529b31c0dc@squarespace.com
DTSTAMP:20201101T204142Z
DTSTART:20200927T223000Z
DTEND:20201010T210000Z
SUMMARY:Areez Katki: It’s Never Too Late To Learn
GEO:-36.904662;174.899438
LOCATION:Howick Historical Village\, Bells Road\, Lloyd Elsmore Park\, Paku
 ranga\, Auckland\, Auckland\, 2010\, New Zealand
END:VEVENT
END:VCALENDAR
