BEGIN:VCALENDAR
VERSION:2.0
PRODID:-//Squarespace Inc/Squarespace 6//v6//EN
BEGIN:VEVENT
UID:5f7a73ff41366b5ecadcb978@squarespace.com
DTSTAMP:20201005T012245Z
DTSTART:20200713T210000Z
DTEND:20200726T100000Z
SUMMARY:Angus Muir Design: Shish-Ka-Buoy
GEO:-36.968229;174.908784
LOCATION:Barry Curtis Park\, 163 Chapel Road\, Auckland\, Auckland\, 2016\, 
 New Zealand
END:VEVENT
END:VCALENDAR
